BEGIN:VCALENDAR
VERSION:2.0
PRODID:-//Eventin//Event Calendar//EN
CALSCALE:GREGORIAN
METHOD:PUBLISH
BEGIN:VEVENT
UID:5eb4acf0b7f8e908649822c690f2beb8@rhutah.church
SUMMARY:Spring Baby Battle Drive
DESCRIPTION:Join us at Redemption Hill Church as we partner with Charis Pre
 gnancy Clinic for our Spring Baby Bottle Drive\, running from April 26 thro
 ugh May 17. This is a simple yet powerful way to make a real difference in 
 the lives of mothers\, babies\, and families in our community. By participa
 ting\, you help provide essential resources\, support\, and care to those f
 acing unexpected pregnancies.\nPick up a baby bottle\, fill it with coins\,
  cash\, or checks\, and return it by the end of the drive. Every contributi
 on\, no matter the size\, plays a part in offering hope\, encouragement\, a
 nd life-affirming support. Together\, we can come alongside families in nee
 d and be a tangible expression of God’s love in our community.
LOCATION:Redemption Hill Church
DTSTAMP:20260421T143908Z
DTSTART:20260426T120000Z
DTEND:20260517T210000Z
END:VEVENT
END:VCALENDAR
